BEGIN:VCALENDAR
VERSION:2.0
PRODID:-//Newborn Covenant Church - ECPv6.10.1//NONSGML v1.0//EN
CALSCALE:GREGORIAN
METHOD:PUBLISH
X-ORIGINAL-URL:https://newborncovenant.church
X-WR-CALDESC:Events for Newborn Covenant Church
REFRESH-INTERVAL;VALUE=DURATION:PT1H
X-Robots-Tag:noindex
X-PUBLISHED-TTL:PT1H
BEGIN:VTIMEZONE
TZID:UTC
BEGIN:STANDARD
TZOFFSETFROM:+0000
TZOFFSETTO:+0000
TZNAME:UTC
DTSTART:20300101T000000
END:STANDARD
END:VTIMEZONE
BEGIN:VEVENT
DTSTART;TZID=UTC:20300220T183000
DTEND;TZID=UTC:20300220T200000
DTSTAMP:20260420T223522
CREATED:20240125T025752Z
LAST-MODIFIED:20260108T022347Z
UID:10001462-1897842600-1897848000@newborncovenant.church
SUMMARY:Women Elevate Small Group
DESCRIPTION:Women Elevate the curated space to grow in the depth of the Word and to connect with women who care and support each other.  A space that leaves you feeling connected\, inspired\, empowered to be the best version of you that God created you to be. Join us as we begin a study of David\, a man after God’s own heart. \nJoin us Online \nAttend Women Elevate (Online Zoom) \n 
URL:https://newborncovenant.church/event/women-elevate-small-group/2030-02-20/
LOCATION:Zoom
ATTACH;FMTTYPE=image/webp:https://newborncovenant.church/wp-content/uploads/2024/01/Women-Elevate-Small-Group-Event.webp
END:VEVENT
BEGIN:VEVENT
DTSTART;TZID=UTC:20300315T193000
DTEND;TZID=UTC:20300315T203000
DTSTAMP:20260420T223522
CREATED:20250705T174423Z
LAST-MODIFIED:20250705T174424Z
UID:10001456-1899833400-1899837000@newborncovenant.church
SUMMARY:Upper Room Prayer
DESCRIPTION:We will remain steadfast in prayer. Join us every month for the Upper Room Prayer\, a time of corporate fasting and praying every 3rd Friday.
URL:https://newborncovenant.church/event/monthly-corporate-prayer-2-2/2030-03-15/
LOCATION:Newborn Covenant Church\, 25 Selby Road\, Brampton\, Ontario\, Canada
ATTACH;FMTTYPE=image/png:https://newborncovenant.church/wp-content/uploads/2024/02/Gather-in-the-Upper-Room.png
END:VEVENT
END:VCALENDAR